BEGIN:VCALENDAR
VERSION:2.0
PRODID:-//Martinez Area CERT Foundation - ECPv6.15.20//NONSGML v1.0//EN
CALSCALE:GREGORIAN
METHOD:PUBLISH
X-WR-CALNAME:Martinez Area CERT Foundation
X-ORIGINAL-URL:https://martinezcertfndn.org
X-WR-CALDESC:Events for Martinez Area CERT Foundation
REFRESH-INTERVAL;VALUE=DURATION:PT1H
X-Robots-Tag:noindex
X-PUBLISHED-TTL:PT1H
BEGIN:VTIMEZONE
TZID:America/Los_Angeles
BEGIN:DAYLIGHT
TZOFFSETFROM:-0800
TZOFFSETTO:-0700
TZNAME:PDT
DTSTART:20210314T100000
END:DAYLIGHT
BEGIN:STANDARD
TZOFFSETFROM:-0700
TZOFFSETTO:-0800
TZNAME:PST
DTSTART:20211107T090000
END:STANDARD
BEGIN:DAYLIGHT
TZOFFSETFROM:-0800
TZOFFSETTO:-0700
TZNAME:PDT
DTSTART:20220313T100000
END:DAYLIGHT
BEGIN:STANDARD
TZOFFSETFROM:-0700
TZOFFSETTO:-0800
TZNAME:PST
DTSTART:20221106T090000
END:STANDARD
BEGIN:DAYLIGHT
TZOFFSETFROM:-0800
TZOFFSETTO:-0700
TZNAME:PDT
DTSTART:20230312T100000
END:DAYLIGHT
BEGIN:STANDARD
TZOFFSETFROM:-0700
TZOFFSETTO:-0800
TZNAME:PST
DTSTART:20231105T090000
END:STANDARD
END:VTIMEZONE
BEGIN:VEVENT
DTSTART;TZID=America/Los_Angeles:20221012T190000
DTEND;TZID=America/Los_Angeles:20221012T203000
DTSTAMP:20260423T101613
CREATED:20220312T180225Z
LAST-MODIFIED:20220312T180404Z
UID:164-1665601200-1665606600@martinezcertfndn.org
SUMMARY:Board Meeting - Qtr 4\, 2022
DESCRIPTION:Regularly scheduled meeting for the Foundation Board of Directors
URL:https://martinezcertfndn.org/event/board-meeting-q4-2022/
LOCATION:Zoom
CATEGORIES:Board Meetings
ORGANIZER;CN="Foundation Staff":MAILTO:web@martinezcert.org
END:VEVENT
BEGIN:VEVENT
DTSTART;TZID=America/Los_Angeles:20220713T190000
DTEND;TZID=America/Los_Angeles:20220713T203000
DTSTAMP:20260423T101613
CREATED:20220312T180118Z
LAST-MODIFIED:20220312T180404Z
UID:162-1657738800-1657744200@martinezcertfndn.org
SUMMARY:Board Meeting - Qtr 3\, 2022
DESCRIPTION:Regularly scheduled meeting for the Foundation Board of Directors
URL:https://martinezcertfndn.org/event/board-meeting-q3-2022/
LOCATION:Zoom
CATEGORIES:Board Meetings
ORGANIZER;CN="Foundation Staff":MAILTO:web@martinezcert.org
END:VEVENT
BEGIN:VEVENT
DTSTART;TZID=America/Los_Angeles:20220413T190000
DTEND;TZID=America/Los_Angeles:20220413T203000
DTSTAMP:20260423T101613
CREATED:20220312T175905Z
LAST-MODIFIED:20220312T200303Z
UID:158-1649876400-1649881800@martinezcertfndn.org
SUMMARY:Board Meeting - Qtr 2\, 2022
DESCRIPTION:Regularly scheduled meeting for the Foundation Board of Directors. \nTentative agenda: \n\nApprove minutes from January meeting\nPresident’s Report\n\nIndemnity insurance – status\nWeb site – status\n\n\nTreasurer’s Report\nOther
URL:https://martinezcertfndn.org/event/board-meeting-q2-2022/
LOCATION:Zoom
CATEGORIES:Board Meetings
ORGANIZER;CN="Foundation Staff":MAILTO:web@martinezcert.org
END:VEVENT
BEGIN:VEVENT
DTSTART;TZID=America/Los_Angeles:20220112T190000
DTEND;TZID=America/Los_Angeles:20220112T203000
DTSTAMP:20260423T101613
CREATED:20211020T162046Z
LAST-MODIFIED:20220312T180404Z
UID:152-1642014000-1642019400@martinezcertfndn.org
SUMMARY:Board Meeting - Qtr 1\, 2022
DESCRIPTION:Regularly scheduled meeting for the Foundation Board of Directors. \nUpdate: Here are meeting minutes from this event
URL:https://martinezcertfndn.org/event/board-meeting-q1-2022/
LOCATION:Zoom
CATEGORIES:Board Meetings
ORGANIZER;CN="Foundation Staff":MAILTO:web@martinezcert.org
END:VEVENT
END:VCALENDAR